BEGIN:VCALENDAR
VERSION:2.0
PRODID:-//Olga Kern International Piano Competition (OKIPC) - ECPv6.15.6//NONSGML v1.0//EN
CALSCALE:GREGORIAN
METHOD:PUBLISH
X-ORIGINAL-URL:https://olgakerncompetition.org
X-WR-CALDESC:Events for Olga Kern International Piano Competition (OKIPC)
REFRESH-INTERVAL;VALUE=DURATION:PT1H
X-Robots-Tag:noindex
X-PUBLISHED-TTL:PT1H
BEGIN:VTIMEZONE
TZID:America/Chicago
BEGIN:DAYLIGHT
TZOFFSETFROM:-0600
TZOFFSETTO:-0500
TZNAME:CDT
DTSTART:20210314T080000
END:DAYLIGHT
BEGIN:STANDARD
TZOFFSETFROM:-0500
TZOFFSETTO:-0600
TZNAME:CST
DTSTART:20211107T070000
END:STANDARD
BEGIN:DAYLIGHT
TZOFFSETFROM:-0600
TZOFFSETTO:-0500
TZNAME:CDT
DTSTART:20220313T080000
END:DAYLIGHT
BEGIN:STANDARD
TZOFFSETFROM:-0500
TZOFFSETTO:-0600
TZNAME:CST
DTSTART:20221106T070000
END:STANDARD
BEGIN:DAYLIGHT
TZOFFSETFROM:-0600
TZOFFSETTO:-0500
TZNAME:CDT
DTSTART:20230312T080000
END:DAYLIGHT
BEGIN:STANDARD
TZOFFSETFROM:-0500
TZOFFSETTO:-0600
TZNAME:CST
DTSTART:20231105T070000
END:STANDARD
END:VTIMEZONE
BEGIN:VEVENT
DTSTART;VALUE=DATE:20220201
DTEND;VALUE=DATE:20220503
DTSTAMP:20260421T064055
CREATED:20220131T205400Z
LAST-MODIFIED:20220301T015608Z
UID:10000025-1643673600-1651535999@olgakerncompetition.org
SUMMARY:2022 Piano Competition Application Deadline
DESCRIPTION:2022 Third Olga Kern International Piano Competition\nPiano Competition Applications Deadline\n\n\n\nMay 2\, 2022\n\n\n\nThe 2022 Competition is open to pianists of all nationalities who will be between the ages of 18 and 32 on October 30\, 2022. Participation is conditional on a candidate submitting the required documents for consideration by May 2\, 2022. \n\nApplication RequirementsRules & RegulationsAwards & PrizesApply On Acceptd
URL:https://olgakerncompetition.org/calendar/2022-piano-competition-application/
LOCATION:Acceptd
CATEGORIES:Competition,Deadline
ATTACH;FMTTYPE=image/jpeg:https://olgakerncompetition.org/wp-content/uploads/2022/02/accepting-applications-2022-1.jpg
END:VEVENT
END:VCALENDAR