BEGIN:VCALENDAR
VERSION:2.0
PRODID:-//Olga Kern International Piano Competition (OKIPC) - ECPv6.15.6//NONSGML v1.0//EN
CALSCALE:GREGORIAN
METHOD:PUBLISH
X-ORIGINAL-URL:https://olgakerncompetition.org
X-WR-CALDESC:Events for Olga Kern International Piano Competition (OKIPC)
REFRESH-INTERVAL;VALUE=DURATION:PT1H
X-Robots-Tag:noindex
X-PUBLISHED-TTL:PT1H
BEGIN:VTIMEZONE
TZID:America/Chicago
BEGIN:DAYLIGHT
TZOFFSETFROM:-0600
TZOFFSETTO:-0500
TZNAME:CDT
DTSTART:20200308T080000
END:DAYLIGHT
BEGIN:STANDARD
TZOFFSETFROM:-0500
TZOFFSETTO:-0600
TZNAME:CST
DTSTART:20201101T070000
END:STANDARD
BEGIN:DAYLIGHT
TZOFFSETFROM:-0600
TZOFFSETTO:-0500
TZNAME:CDT
DTSTART:20210314T080000
END:DAYLIGHT
BEGIN:STANDARD
TZOFFSETFROM:-0500
TZOFFSETTO:-0600
TZNAME:CST
DTSTART:20211107T070000
END:STANDARD
BEGIN:DAYLIGHT
TZOFFSETFROM:-0600
TZOFFSETTO:-0500
TZNAME:CDT
DTSTART:20220313T080000
END:DAYLIGHT
BEGIN:STANDARD
TZOFFSETFROM:-0500
TZOFFSETTO:-0600
TZNAME:CST
DTSTART:20221106T070000
END:STANDARD
END:VTIMEZONE
BEGIN:VEVENT
DTSTART;TZID=America/Chicago:20210207T190000
DTEND;TZID=America/Chicago:20210207T190000
DTSTAMP:20260420T050221
CREATED:20181004T015417Z
LAST-MODIFIED:20250711T204030Z
UID:10000038-1612724400-1612724400@olgakerncompetition.org
SUMMARY:2016 Competition Replays! Anastasiya Naplekova
DESCRIPTION:Competition Replays!\nAnastasiya Naplekova\nAvailable On & After: February 7\, 2021  / 7 pm MDT\n\nRevisit all of the award-winning performances of the 2016 and 2019 Olga Kern International Piano Competition!\nStarting in January\, fans of the competition can relive all of the breathtaking\, prize-winning performances for free on Vimeo. Each “Replay” is available on and after scheduled Sunday night release at 7:00 p.m. MDT. \nWatch Replay on Vimeo\n\nThird-Prize Winner\, 2016\nAnastasiya Naplekova\nJ.S. Bach\nPrelude and Fugue No. 22 in b-flat minor from The Well-Tempered Clavier\, Book I\, BWV 867 \nHaydn\nSonata in b minor\, Hob. XVI/32\nI. Allegro moderato\nII. Minuet\nIII. Finale: Presto \nChopin\nÉtude No. 12 in c minor\, Op. 25 \nRachmaninoff\nÉtude Tableau No. 2 in a minor\, Op. 39 \nKreisler/Rachmaninoff\nLiebesfreude 
URL:https://olgakerncompetition.org/calendar/competition-replays-anastasiya-naplekova/
LOCATION:Online
CATEGORIES:Competition Replays
ATTACH;FMTTYPE=image/jpeg:https://olgakerncompetition.org/wp-content/uploads/2018/10/okipc-competition-replays-1200-x-400-30-2.jpg
END:VEVENT
BEGIN:VEVENT
DTSTART;TZID=America/Chicago:20210117T190000
DTEND;TZID=America/Chicago:20210117T190000
DTSTAMP:20260420T050221
CREATED:20181004T015417Z
LAST-MODIFIED:20250711T204007Z
UID:10000040-1610910000-1610910000@olgakerncompetition.org
SUMMARY:2019 Competition Replays! Elizaveta Kliuchereva
DESCRIPTION:Competition Replays!\nElizaveta Kliuchereva\nJanuary 17\, 2021  / 7 pm MDT\n\nRevisit all of the award-winning performances of the 2016 and 2019 Olga Kern International Piano Competition!\nStarting in January\, fans of the competition can relive all of the breathtaking\, prize-winning performances for free on Vimeo. Each “Replay” is available on and after scheduled Sunday night release at 7:00 p.m. MDT. \nWatch Replay on Vimeo\n\nFourth-Prize Winner\, 2019\nElizaveta Kliuchereva \nBach\nPrelude and Fugue from The Well-Tempered Clavier\, Book II\, No. 1 in C Major\, BWV 870 \nScriabin\nÉtude in c-sharp minor\, Op. 42\, No. 5 \nChopin\nÉtude in g-sharp minor\, Op. 25\, No. 6 \nMozart \nSonata No. 18 in D Major\, K. 576\nI. Allegro\nII. Adagio\nIII. Allegretto \nRachmaninoff\nPolka de W.R.
URL:https://olgakerncompetition.org/calendar/competition-replays-elizaveta-kliuchereva/
LOCATION:Online
CATEGORIES:Competition Replays
ATTACH;FMTTYPE=image/jpeg:https://olgakerncompetition.org/wp-content/uploads/2018/10/okipc-competition-replays-1200-x-400-25.jpg
END:VEVENT
BEGIN:VEVENT
DTSTART;TZID=America/Chicago:20210103T190000
DTEND;TZID=America/Chicago:20210103T190000
DTSTAMP:20260420T050221
CREATED:20181004T015417Z
LAST-MODIFIED:20250711T204038Z
UID:10000041-1609700400-1609700400@olgakerncompetition.org
SUMMARY:2016 Competition Replays! Joshua Allen-Rupley
DESCRIPTION:Competition Replays!\nJoshua Allen-Rupley\nAvailable On & After: January 3\, 2021 / 7 pm MDT\n\nRevisit all of the award-winning performances of the 2016 and 2019 Olga Kern International Piano Competition!\nStarting in January\, fans of the competition can relive all of the breathtaking\, prize-winning performances for free on Vimeo. Each “Replay” is available on and after scheduled Sunday night release at 7:00 p.m. MDT. \nWatch Replay on Vimeo\n\nFourth-Prize Winner\, 2016 \nJoshua Allen-Rupley\nJ.S. Bach\nPrelude and Fugue No. 5 in D Major from The Well-Tempered Clavier\, Book II\,  BWV 874 \nBeethoven\nSonata No. 7 in D Major\, Op. 10\, No. 3\nI. Presto\nII. Largo e mesto\nIII. Menuetto. Allegro\nIV. Rondo. Allegro \nScriabin\nÉtude No. 5 in c-sharp minor\, Op. 42 \nRachmaninoff\nPrelude No. 10 in b minor\, Op. 32 \nRachmaninoff\nÉtude-Tableau No. 3 in e-flat minor\, Op. 33
URL:https://olgakerncompetition.org/calendar/competition-replays-joshua-allen-rupley/
LOCATION:Online
CATEGORIES:Competition Replays
ATTACH;FMTTYPE=image/jpeg:https://olgakerncompetition.org/wp-content/uploads/2018/10/okipc-competition-replays-1200-x-400-28.jpg
END:VEVENT
END:VCALENDAR