BEGIN:VCALENDAR
VERSION:2.0
PRODID:-//Olga Kern International Piano Competition (OKIPC) - ECPv6.15.6//NONSGML v1.0//EN
CALSCALE:GREGORIAN
METHOD:PUBLISH
X-ORIGINAL-URL:https://olgakerncompetition.org
X-WR-CALDESC:Events for Olga Kern International Piano Competition (OKIPC)
REFRESH-INTERVAL;VALUE=DURATION:PT1H
X-Robots-Tag:noindex
X-PUBLISHED-TTL:PT1H
BEGIN:VTIMEZONE
TZID:America/Chicago
BEGIN:DAYLIGHT
TZOFFSETFROM:-0600
TZOFFSETTO:-0500
TZNAME:CDT
DTSTART:20210314T080000
END:DAYLIGHT
BEGIN:STANDARD
TZOFFSETFROM:-0500
TZOFFSETTO:-0600
TZNAME:CST
DTSTART:20211107T070000
END:STANDARD
BEGIN:DAYLIGHT
TZOFFSETFROM:-0600
TZOFFSETTO:-0500
TZNAME:CDT
DTSTART:20220313T080000
END:DAYLIGHT
BEGIN:STANDARD
TZOFFSETFROM:-0500
TZOFFSETTO:-0600
TZNAME:CST
DTSTART:20221106T070000
END:STANDARD
BEGIN:DAYLIGHT
TZOFFSETFROM:-0600
TZOFFSETTO:-0500
TZNAME:CDT
DTSTART:20230312T080000
END:DAYLIGHT
BEGIN:STANDARD
TZOFFSETFROM:-0500
TZOFFSETTO:-0600
TZNAME:CST
DTSTART:20231105T070000
END:STANDARD
END:VTIMEZONE
BEGIN:VEVENT
DTSTART;TZID=America/Chicago:20221029T180000
DTEND;TZID=America/Chicago:20221029T210000
DTSTAMP:20260423T121120
CREATED:20220131T205400Z
LAST-MODIFIED:20221030T175349Z
UID:10000031-1667066400-1667077200@olgakerncompetition.org
SUMMARY:2022 Final Round
DESCRIPTION:2022 Third Olga Kern International Piano Competition\n\n\n\nFinal Round\n\n\n\nOctober 29\, 2022\, 6 p.m.\nPopejoy HallUniversity of New Mexico203 Cornell DrAlbuquerque\, NM 87131 \nFrancesco Lecce-Chong conductorNew Mexico Philharmonic \nFinalistsAnthony RatinovYanfeng BaiJonathan Mamora \n\n\n\n\n\nThe Final Round will take place on Saturday\, October 29\, 2022\, at Popejoy Hall on the campus of the University of New Mexico\, located at 203 Cornell Dr\, Albuquerque\, NM 87131. \nThe finalists will perform a concerto with the New Mexico Philharmonic on Saturday\, October 29\, 2022\, at 6 p.m. at Popejoy Hall. They will participate in two rehearsals prior to the concert as follows: Friday\, October 28\, 2022\, time to be determined\, and Saturday\, October 29\, 2022\, 12 p.m.–2:30 p.m. Each competitor will have a pre-rehearsal meeting of approximately 20-30 minutes with the conductor. The numbers of the competitors will be carried over from the Second and Semifinal Rounds. However\, the order of the competitors may be changed depending on the repertoire. The order of the competitors will be decided on Thursday\, October 27\, 2022\, after the announcement of the advancing competitors. The finalists will be notified that evening. \nThe piano choice from the Semifinal Round can be carried over for each competitor\, but a decision change to use the other piano will be allowed before the first rehearsal with the New Mexico Philharmonic. That choice is final. \nAt the end of the concert\, the Jury will deliberate and announce the winner and subsequent positions of the remaining competitors. The audience will fill out a ballot or vote on the website for the Audience Award. \n2022 Third Olga Kern International Piano Competition events will be live-streamed. All times are Mountain Daylight Time (GMT-6). \n\n\nBuy Tickets \nFree with Sound Card \nWatch Live \n\nView Program Book on Issuu
URL:https://olgakerncompetition.org/calendar/2022-final-round-2/
LOCATION:Popejoy Hall\, 203 Cornell Dr NE\, Albuquerque\, NM\, 87131\, United States
CATEGORIES:Competition
ATTACH;FMTTYPE=image/jpeg:https://olgakerncompetition.org/wp-content/uploads/2022/01/round4-2022.jpg
END:VEVENT
END:VCALENDAR